BEGIN:VCALENDAR
VERSION:2.0
PRODID:-//Ökospeicher e.V. - ECPv6.15.20//NONSGML v1.0//EN
CALSCALE:GREGORIAN
METHOD:PUBLISH
X-WR-CALNAME:Ökospeicher e.V.
X-ORIGINAL-URL:https://oekospeicher.de
X-WR-CALDESC:Veranstaltungen für Ökospeicher e.V.
REFRESH-INTERVAL;VALUE=DURATION:PT1H
X-Robots-Tag:noindex
X-PUBLISHED-TTL:PT1H
BEGIN:VTIMEZONE
TZID:Europe/Berlin
BEGIN:DAYLIGHT
TZOFFSETFROM:+0100
TZOFFSETTO:+0200
TZNAME:CEST
DTSTART:20250330T010000
END:DAYLIGHT
BEGIN:STANDARD
TZOFFSETFROM:+0200
TZOFFSETTO:+0100
TZNAME:CET
DTSTART:20251026T010000
END:STANDARD
BEGIN:DAYLIGHT
TZOFFSETFROM:+0100
TZOFFSETTO:+0200
TZNAME:CEST
DTSTART:20260329T010000
END:DAYLIGHT
BEGIN:STANDARD
TZOFFSETFROM:+0200
TZOFFSETTO:+0100
TZNAME:CET
DTSTART:20261025T010000
END:STANDARD
BEGIN:DAYLIGHT
TZOFFSETFROM:+0100
TZOFFSETTO:+0200
TZNAME:CEST
DTSTART:20270328T010000
END:DAYLIGHT
BEGIN:STANDARD
TZOFFSETFROM:+0200
TZOFFSETTO:+0100
TZNAME:CET
DTSTART:20271031T010000
END:STANDARD
END:VTIMEZONE
BEGIN:VEVENT
DTSTART;TZID=Europe/Berlin:20260306T190000
DTEND;TZID=Europe/Berlin:20260306T203000
DTSTAMP:20260420T194439
CREATED:20260104T110915Z
LAST-MODIFIED:20260225T141939Z
UID:3057-1772823600-1772829000@oekospeicher.de
SUMMARY:Ökofilmtour: Dorf bleibt Dorf
DESCRIPTION:„Dorf bleit Dorf“ ist ein Film\, der so streitbar wie auch umstritten ist. Der Film begleitet die Bewohner von Karstädt\, die sich gegen den Bau einer großen Biomethangasanlage wehren. Ein spannender Film über das Spannungsverhältnis von Energiewende vor der eigenen Haustür und demokratischer Teilhabe. Ein Film\, der für Zustimmung und Kritik sorgte – wir wollen das im anschließenden Gespräch mit Regisseur Jean Boué einordnen. \nRegie: Jean Boué
URL:https://oekospeicher.de/event/oekofilmtour-dorf-bleibt-dorf/
LOCATION:Ökospeicher Wulkow\, Am Gutshof 1\, Lebus\, OT Wulkow\, Brandenburg\, 15326\, Deutschland
CATEGORIES:Ökofilmtour 26
ATTACH;FMTTYPE=image/jpeg:https://oekospeicher.de/wp-content/uploads/2026/01/dorf_bleibt_dorf.jpg
END:VEVENT
END:VCALENDAR