BEGIN:VCALENDAR
VERSION:2.0
PRODID:-//Ökospeicher e.V. - ECPv6.15.20//NONSGML v1.0//EN
CALSCALE:GREGORIAN
METHOD:PUBLISH
X-ORIGINAL-URL:https://oekospeicher.de
X-WR-CALDESC:Veranstaltungen für Ökospeicher e.V.
REFRESH-INTERVAL;VALUE=DURATION:PT1H
X-Robots-Tag:noindex
X-PUBLISHED-TTL:PT1H
BEGIN:VTIMEZONE
TZID:Europe/Berlin
BEGIN:DAYLIGHT
TZOFFSETFROM:+0100
TZOFFSETTO:+0200
TZNAME:CEST
DTSTART:20250330T010000
END:DAYLIGHT
BEGIN:STANDARD
TZOFFSETFROM:+0200
TZOFFSETTO:+0100
TZNAME:CET
DTSTART:20251026T010000
END:STANDARD
BEGIN:DAYLIGHT
TZOFFSETFROM:+0100
TZOFFSETTO:+0200
TZNAME:CEST
DTSTART:20260329T010000
END:DAYLIGHT
BEGIN:STANDARD
TZOFFSETFROM:+0200
TZOFFSETTO:+0100
TZNAME:CET
DTSTART:20261025T010000
END:STANDARD
BEGIN:DAYLIGHT
TZOFFSETFROM:+0100
TZOFFSETTO:+0200
TZNAME:CEST
DTSTART:20270328T010000
END:DAYLIGHT
BEGIN:STANDARD
TZOFFSETFROM:+0200
TZOFFSETTO:+0100
TZNAME:CET
DTSTART:20271031T010000
END:STANDARD
END:VTIMEZONE
BEGIN:VEVENT
DTSTART;TZID=Europe/Berlin:20260306T190000
DTEND;TZID=Europe/Berlin:20260306T203000
DTSTAMP:20260420T143316
CREATED:20260104T110915Z
LAST-MODIFIED:20260225T141939Z
UID:3057-1772823600-1772829000@oekospeicher.de
SUMMARY:Ökofilmtour: Dorf bleibt Dorf
DESCRIPTION:„Dorf bleit Dorf“ ist ein Film\, der so streitbar wie auch umstritten ist. Der Film begleitet die Bewohner von Karstädt\, die sich gegen den Bau einer großen Biomethangasanlage wehren. Ein spannender Film über das Spannungsverhältnis von Energiewende vor der eigenen Haustür und demokratischer Teilhabe. Ein Film\, der für Zustimmung und Kritik sorgte – wir wollen das im anschließenden Gespräch mit Regisseur Jean Boué einordnen. \nRegie: Jean Boué
URL:https://oekospeicher.de/event/oekofilmtour-dorf-bleibt-dorf/
LOCATION:Ökospeicher Wulkow\, Am Gutshof 1\, Lebus\, OT Wulkow\, Brandenburg\, 15326\, Deutschland
CATEGORIES:Ökofilmtour 26
ATTACH;FMTTYPE=image/jpeg:https://oekospeicher.de/wp-content/uploads/2026/01/dorf_bleibt_dorf.jpg
END:VEVENT
BEGIN:VEVENT
DTSTART;TZID=Europe/Berlin:20260313T190000
DTEND;TZID=Europe/Berlin:20260313T203000
DTSTAMP:20260420T143316
CREATED:20260104T111340Z
LAST-MODIFIED:20260225T142118Z
UID:3059-1773428400-1773433800@oekospeicher.de
SUMMARY:Ökofilmtour: Der Graue Kranich - Auf den Schwingen eines Riesen
DESCRIPTION:Der Film begleitet den majestätischen Grauen Kranich ein Jahr lang auf seiner abenteuerlichen Reise quer durch Europa: im Frühjahr von seinen Winterquartieren in\nden malerischen Kork- und Steineichenhainen der Extremadura bis zu seinen mehr als 2.000 Kilometern entfernten Brutgebieten in Skandinavien – und im Herbst wieder zurück in den Süden. Es kommen Menschen zu Wort\, die sich seit vielen Jahren für den Schutz des Kranichs und seines Lebensraums engagieren. Sie verdeutlichen die Probleme\, mit denen der eindrucksvolle Vogel zunehmend konfrontiert ist. Regisseurin Annkathrin Mücke spricht mit uns im Anschluss über Film und Vogel.
URL:https://oekospeicher.de/event/oekofilmtour-der-graue-kranich-auf-den-schwingen-eines-riesen/
LOCATION:Ökospeicher Wulkow\, Am Gutshof 1\, Lebus\, OT Wulkow\, Brandenburg\, 15326\, Deutschland
CATEGORIES:Ökofilmtour 26
ATTACH;FMTTYPE=image/jpeg:https://oekospeicher.de/wp-content/uploads/2026/01/kranich.jpg
END:VEVENT
BEGIN:VEVENT
DTSTART;TZID=Europe/Berlin:20260320T190000
DTEND;TZID=Europe/Berlin:20260320T203000
DTSTAMP:20260420T143316
CREATED:20260104T111729Z
LAST-MODIFIED:20260225T142442Z
UID:3061-1774033200-1774038600@oekospeicher.de
SUMMARY:Ökofilmtour: Wildnis statt Spreewald
DESCRIPTION:Der Spreewald – UNESCO-Biosphärenreservat\, Naturparadies und Kulturlandschaft zugleich. Hier treffen Artenvielfalt und Tradition aufeinander. Doch die geplante\nAusweisung neuer Wildnisgebiete spaltet die Region: Während Naturschützer den Schutz der Wälder fordern\, kämpft die Initiative „Wald statt Wildnis“ gegen weitere\nFlächenstilllegungen. Sie wollen einen Wald\, der für den Menschen bewirtschaftbar und erlebbar bleibt. Im Kern geht es um die Frage: Soll ein Teil des Landeswaldes\nungenutzt bleiben\, um EU-Vorgaben zu erfüllen? Befürworter sehen darin ein Stück Zukunftssicherung\, Kritiker verweisen auf die gewachsene Kulturlandschaft und\nwarnen vor dem Verlust regionaler Identität. Der Film zeigt einen erbitterten Streit um Natur\, Tradition und die Zukunft des Spreewaldes. Regie: Wolfgang Albus \nanschl. Filmgespräch mit Regisseur Wolfgang Albus
URL:https://oekospeicher.de/event/oekofilmtour-wildnis-statt-spreewald/
LOCATION:Ökospeicher Wulkow\, Am Gutshof 1\, Lebus\, OT Wulkow\, Brandenburg\, 15326\, Deutschland
CATEGORIES:Ökofilmtour 26
ATTACH;FMTTYPE=image/jpeg:https://oekospeicher.de/wp-content/uploads/2026/01/wildnis.jpg
END:VEVENT
BEGIN:VEVENT
DTSTART;TZID=Europe/Berlin:20260327T190000
DTEND;TZID=Europe/Berlin:20260327T203000
DTSTAMP:20260420T143316
CREATED:20260104T112204Z
LAST-MODIFIED:20260323T080013Z
UID:3063-1774638000-1774643400@oekospeicher.de
SUMMARY:Ökofilmtour: Wind - Die Vermessung des großen Luftozeans
DESCRIPTION:Der Dokumentarfilm erzählt humorvoll und eindrucksvoll von der Kraft des Windes – seiner Freiheit\, Zartheit und zerstörerischen Gewalt. Meteorologe Özden Terli reist zu entlegenen Orten rund um den Globus\, wo Wissenschaftler:innen den Wind und verwandte Phänomene erforschen\, messen und ihre Auswirkungen auf das Klima untersuchen. Der Film verbindet atemberaubende Naturaufnahmen mit Einblicken in die Arbeit der Forschenden und zeigt\, wie eng meteorologische Veränderungen und menschliches Handeln miteinander verknüpft sind. \nRegie: Alexander Riedel \nAnschließend Filmgespräch mit Frank Beyrich\, Leiter des DWD-Observatoriums Lindenberg
URL:https://oekospeicher.de/event/oekofilmtour-wind-die-vermessung-des-grossen-luftozeans/
LOCATION:Ökospeicher Wulkow\, Am Gutshof 1\, Lebus\, OT Wulkow\, Brandenburg\, 15326\, Deutschland
CATEGORIES:Ökofilmtour 26
ATTACH;FMTTYPE=image/jpeg:https://oekospeicher.de/wp-content/uploads/2026/01/vermessung.jpg
END:VEVENT
END:VCALENDAR